View In:
ArcGIS JavaScript
ArcGIS Online Map Viewer
ArcGIS Earth
ArcMap
View Footprint In:
ArcGIS Online Map Viewer
Service Description: Public/NC_Combined_Meow
Name: Public/NC_Combined_Meow
Description:
Single Fused Map Cache: false
Extent:
XMin: -79.04888888832194
YMin: 33.752687796776826
XMax: -75.39999999937415
YMax: 36.7582433523809
Spatial Reference: 4269
(4269)
Initial Extent:
XMin: -79.04888888832194
YMin: 33.752687796776826
XMax: -75.39999999937415
YMax: 36.7582433523809
Spatial Reference: 4269
(4269)
Full Extent:
XMin: -79.04888888832194
YMin: 33.752687796776826
XMax: -75.39999999937415
YMax: 36.7582433523809
Spatial Reference: 4269
(4269)
Pixel Size X: 2.777777777822621E-4
Pixel Size Y: 2.777777777822621E-4
Band Count: 1
Pixel Type: U8
RasterFunction Infos: {"rasterFunctionInfos": [{
"name": "None",
"description": "",
"help": ""
}]}
Mensuration Capabilities: Basic
Has Histograms: true
Has Colormap: false
Has Multi Dimensions : false
Rendering Rule:
Min Scale: 0
Max Scale: 0
Copyright Text:
Service Data Type: esriImageServiceDataTypeThematic
Min Values: 1
Max Values: 15
Mean Values: 5.2402307788255
Standard Deviation Values: 2.5378856040605
Object ID Field:
Fields:
None
Default Mosaic Method: Center
Allowed Mosaic Methods:
SortField:
SortValue: null
Mosaic Operator: First
Default Compression Quality: 75
Default Resampling Method: Bilinear
Max Record Count: null
Max Image Height: 4100
Max Image Width: 15000
Max Download Image Count: null
Max Mosaic Image Count: null
Allow Raster Function: true
Allow Copy: true
Allow Analysis: true
Allow Compute TiePoints: false
Supports Statistics: false
Supports Advanced Queries: false
Use StandardizedQueries: true
Raster Type Infos:
Name: Raster Dataset
Description: Supports all ArcGIS Raster Datasets
Help:
Has Raster Attribute Table: true
Edit Fields Info: null
Ownership Based AccessControl For Rasters: null
Child Resources:
Info
Raster Attribute Table
Histograms
Statistics
Key Properties
Legend
Raster Function Infos
Supported Operations:
Export Image
Identify
Measure
Compute Histograms
Compute Statistics Histograms
Get Samples
Compute Class Statistics
Query Boundary
Compute Pixel Location
Validate
Project